BEGIN:VCALENDAR
VERSION:2.0
PRODID:-//The Children’s Guild District of Columbia  Public Charter School - ECPv6.15.20//NONSGML v1.0//EN
CALSCALE:GREGORIAN
METHOD:PUBLISH
X-ORIGINAL-URL:https://tcgdc.org
X-WR-CALDESC:Events for The Children’s Guild District of Columbia  Public Charter School
REFRESH-INTERVAL;VALUE=DURATION:PT1H
X-Robots-Tag:noindex
X-PUBLISHED-TTL:PT1H
BEGIN:VTIMEZONE
TZID:UTC
BEGIN:STANDARD
TZOFFSETFROM:+0000
TZOFFSETTO:+0000
TZNAME:UTC
DTSTART:20240101T000000
END:STANDARD
END:VTIMEZONE
BEGIN:VEVENT
DTSTART;TZID=UTC:20250926T080000
DTEND;TZID=UTC:20250926T170000
DTSTAMP:20260422T105440
CREATED:20250404T193852Z
LAST-MODIFIED:20250404T193852Z
UID:2002-1758873600-1758906000@tcgdc.org
SUMMARY:1st Quarter Progress Reports Released
DESCRIPTION:
URL:https://tcgdc.org/event/1st-quarter-progress-reports-released-2/
END:VEVENT
END:VCALENDAR